BEGIN:VCALENDAR
VERSION:2.0
PRODID:-//CFUW Burlington - ECPv6.15.20//NONSGML v1.0//EN
CALSCALE:GREGORIAN
METHOD:PUBLISH
X-WR-CALNAME:CFUW Burlington
X-ORIGINAL-URL:https://cfuwburlington.ca
X-WR-CALDESC:Events for CFUW Burlington
REFRESH-INTERVAL;VALUE=DURATION:PT1H
X-Robots-Tag:noindex
X-PUBLISHED-TTL:PT1H
BEGIN:VTIMEZONE
TZID:America/Toronto
BEGIN:DAYLIGHT
TZOFFSETFROM:-0500
TZOFFSETTO:-0400
TZNAME:EDT
DTSTART:20230312T070000
END:DAYLIGHT
BEGIN:STANDARD
TZOFFSETFROM:-0400
TZOFFSETTO:-0500
TZNAME:EST
DTSTART:20231105T060000
END:STANDARD
BEGIN:DAYLIGHT
TZOFFSETFROM:-0500
TZOFFSETTO:-0400
TZNAME:EDT
DTSTART:20240310T070000
END:DAYLIGHT
BEGIN:STANDARD
TZOFFSETFROM:-0400
TZOFFSETTO:-0500
TZNAME:EST
DTSTART:20241103T060000
END:STANDARD
BEGIN:DAYLIGHT
TZOFFSETFROM:-0500
TZOFFSETTO:-0400
TZNAME:EDT
DTSTART:20250309T070000
END:DAYLIGHT
BEGIN:STANDARD
TZOFFSETFROM:-0400
TZOFFSETTO:-0500
TZNAME:EST
DTSTART:20251102T060000
END:STANDARD
BEGIN:DAYLIGHT
TZOFFSETFROM:-0500
TZOFFSETTO:-0400
TZNAME:EDT
DTSTART:20260308T070000
END:DAYLIGHT
BEGIN:STANDARD
TZOFFSETFROM:-0400
TZOFFSETTO:-0500
TZNAME:EST
DTSTART:20261101T060000
END:STANDARD
BEGIN:DAYLIGHT
TZOFFSETFROM:-0500
TZOFFSETTO:-0400
TZNAME:EDT
DTSTART:20270314T070000
END:DAYLIGHT
BEGIN:STANDARD
TZOFFSETFROM:-0400
TZOFFSETTO:-0500
TZNAME:EST
DTSTART:20271107T060000
END:STANDARD
END:VTIMEZONE
BEGIN:VEVENT
DTSTART;TZID=America/Toronto:20260323T190000
DTEND;TZID=America/Toronto:20260323T210000
DTSTAMP:20260422T123245
CREATED:20260322T110256Z
LAST-MODIFIED:20260322T110451Z
UID:10000474-1774292400-1774299600@cfuwburlington.ca
SUMMARY:Resolutions Night
DESCRIPTION:CFUW promotes for positive public policy changes through resolutions approved by our members at Annual General Meetings and Policy Sessions. These resolutions\, researched and proposed by CFUW Clubs or National Committees\, must support our purpose and mission. Once adopted\, they give focus to our actions and education in the upcoming season. \nAlways an interesting evening\, Resolutions Night brings members of our club together to discuss those proposed resolutions. Enjoy this special discussion evening and take advantage of some social time with your CFUW friends! \nThis meeting is for CFUW Burlington members only. \nPlease read the proposed resolutions which are currently on our website.
URL:https://cfuwburlington.ca/event/resolutions-night/
LOCATION:Church Hall\, St. Matthew-on-the-Plains Anglican Church\, 126 Plains Road East\, Burlington\, ON\, L7T 2C3\, Canada
CATEGORIES:General Meeting
ATTACH;FMTTYPE=image/png:https://cfuwburlington.ca/wp-content/uploads/2026/03/Resolutions.png
END:VEVENT
BEGIN:VEVENT
DTSTART;TZID=America/Toronto:20251124T190000
DTEND;TZID=America/Toronto:20251124T213000
DTSTAMP:20260422T123245
CREATED:20251110T125713Z
LAST-MODIFIED:20251110T125922Z
UID:10000465-1764010800-1764019800@cfuwburlington.ca
SUMMARY:ArtHouse Goes for Gold - setting the highest standards in program delivery
DESCRIPTION:Founded in 2009\, ArtHouse\, a Halton Charitable organization provides FREE Arts-based programs for young people who have no access to extra-scurricular activites. ArtHouse has served over 12\,000 young people with 95- programs at 90 accessible locations throughout Halton.  \nJoin us to hear from Don Pangman\, Founder and ED of ArtHouse.
URL:https://cfuwburlington.ca/event/arthouse-goes-for-gold-setting-the-highest-standards-in-program-delivery/
LOCATION:Church Hall\, St. Matthew-on-the-Plains Anglican Church\, 126 Plains Road East\, Burlington\, ON\, L7T 2C3\, Canada
CATEGORIES:General Meeting,Speaker Series
ATTACH;FMTTYPE=image/jpeg:https://cfuwburlington.ca/wp-content/uploads/2025/11/Don-Pangman-Nov-2025.jpg
END:VEVENT
BEGIN:VEVENT
DTSTART;TZID=America/Toronto:20251027T190000
DTEND;TZID=America/Toronto:20251027T210000
DTSTAMP:20260422T123245
CREATED:20250902T175031Z
LAST-MODIFIED:20251014T011128Z
UID:10000167-1761591600-1761598800@cfuwburlington.ca
SUMMARY:October Speaker: Carolyn Whiskin\, Pharmacist expert for the province on Ontario's ECHO Rheumatology program
DESCRIPTION:Guest Speaker  Carolyn Whiskin\, Pharmacist will provide a presentation on RSV Vaccine. \n\nPharmacist expert for the province on Ontario’s ECHO Rheumatology program\nLead pharmacology instructor for the Advanced Clinical Practitioner in Arthritis Program (ACPAC) at University of Toronto\nPharmacy Manager for Charlton Health and consultant pharmacist at Brant Arts\nDispensary.\nA Certified Menopause Practitioner with the North American Menopause Society\n\nPlease join us!
URL:https://cfuwburlington.ca/event/speaker-series-meeting/
LOCATION:Church Hall\, St. Matthew-on-the-Plains Anglican Church\, 126 Plains Road East\, Burlington\, ON\, L7T 2C3\, Canada
CATEGORIES:General Meeting,Speaker Series
ATTACH;FMTTYPE=image/png:https://cfuwburlington.ca/wp-content/uploads/2025/09/Carolyn-Whiskin-RPh-BScPhm-NCMP-1.png
END:VEVENT
BEGIN:VEVENT
DTSTART;TZID=America/Toronto:20250428T190000
DTEND;TZID=America/Toronto:20250428T213000
DTSTAMP:20260422T123245
CREATED:20250420T104208Z
LAST-MODIFIED:20250420T104208Z
UID:10000154-1745866800-1745875800@cfuwburlington.ca
SUMMARY:Fall Prevention in Older Age - Marla Beauchamp\, McMaster University
DESCRIPTION:
URL:https://cfuwburlington.ca/event/fall-prevention-in-older-age-marla-beauchamp-mcmaster-university/
LOCATION:Church Hall\, St. Matthew-on-the-Plains Anglican Church\, 126 Plains Road East\, Burlington\, ON\, L7T 2C3\, Canada
CATEGORIES:Speaker Series
ATTACH;FMTTYPE=image/png:https://cfuwburlington.ca/wp-content/uploads/2025/04/April-25.png
END:VEVENT
BEGIN:VEVENT
DTSTART;TZID=America/Toronto:20250428T190000
DTEND;TZID=America/Toronto:20250428T200000
DTSTAMP:20260422T123245
CREATED:20250101T110016Z
LAST-MODIFIED:20250424T110400Z
UID:10000004-1745866800-1745870400@cfuwburlington.ca
SUMMARY:April General Meeting 2025
DESCRIPTION:General Meeting\nMonday\, April 28\, 2025 \nOpen to the Public \n7:00 pm – Sign in and Socializing Time \n7:15 pm – Presentation \nSpeaker: Dr. Marla Beauchamp \nTopic: Mobility\, Aging and Technology
URL:https://cfuwburlington.ca/event/april-general-meeting-2025/
LOCATION:Church Hall\, St. Matthew-on-the-Plains Anglican Church\, 126 Plains Road East\, Burlington\, ON\, L7T 2C3\, Canada
CATEGORIES:General Meeting
ATTACH;FMTTYPE=image/png:https://cfuwburlington.ca/wp-content/uploads/2025/04/Featured-Image-CFUW-Burlington.png
END:VEVENT
BEGIN:VEVENT
DTSTART;TZID=America/Toronto:20250324T190000
DTEND;TZID=America/Toronto:20250324T213000
DTSTAMP:20260422T123246
CREATED:20250420T160921Z
LAST-MODIFIED:20250420T160921Z
UID:10000157-1742842800-1742851800@cfuwburlington.ca
SUMMARY:"All rise for the Honourable Paul R. Sweeny\, Regional Senior Judge for the Ontario Superior Court of Justice"
DESCRIPTION:
URL:https://cfuwburlington.ca/event/all-rise-for-the-honourable-paul-r-sweeny-regional-senior-judge-for-the-ontario-superior-court-of-justice/
LOCATION:Church Hall\, St. Matthew-on-the-Plains Anglican Church\, 126 Plains Road East\, Burlington\, ON\, L7T 2C3\, Canada
ATTACH;FMTTYPE=image/png:https://cfuwburlington.ca/wp-content/uploads/2025/04/March-25.png
END:VEVENT
BEGIN:VEVENT
DTSTART;TZID=America/Toronto:20250324T190000
DTEND;TZID=America/Toronto:20250324T200000
DTSTAMP:20260422T123246
CREATED:20250101T120035Z
LAST-MODIFIED:20250221T164411Z
UID:10000003-1742842800-1742846400@cfuwburlington.ca
SUMMARY:March General Meeting 2025
DESCRIPTION:General Meeting\nMonday\, March 24\, 2025 \nOpen to the Public \n7:00 pm – Sign in and Socializing Time\n7:15 pm – Presentation \nSpeaker: Mr. Justice Paul Sweeny\, judge of the Superior Court of Justice of Ontario \nTopic: Sentencing in our Criminal Justice System
URL:https://cfuwburlington.ca/event/march-general-meeting-2025/
LOCATION:Church Hall\, St. Matthew-on-the-Plains Anglican Church\, 126 Plains Road East\, Burlington\, ON\, L7T 2C3\, Canada
ATTACH;FMTTYPE=image/png:https://cfuwburlington.ca/wp-content/uploads/2025/04/Featured-Image-CFUW-Burlington.png
END:VEVENT
BEGIN:VEVENT
DTSTART;TZID=America/Toronto:20250224T140000
DTEND;TZID=America/Toronto:20250224T170000
DTSTAMP:20260422T123246
CREATED:20250420T105632Z
LAST-MODIFIED:20250420T105720Z
UID:10000155-1740405600-1740416400@cfuwburlington.ca
SUMMARY:Vintage Hats & Afternoon Tea
DESCRIPTION:
URL:https://cfuwburlington.ca/event/vintage-hats-afternoon-tea/
LOCATION:Church Hall\, St. Matthew-on-the-Plains Anglican Church\, 126 Plains Road East\, Burlington\, ON\, L7T 2C3\, Canada
CATEGORIES:Speaker Series
ATTACH;FMTTYPE=image/png:https://cfuwburlington.ca/wp-content/uploads/2025/04/Feb-25.png
END:VEVENT
BEGIN:VEVENT
DTSTART;TZID=America/Toronto:20241125T190000
DTEND;TZID=America/Toronto:20241125T210000
DTSTAMP:20260422T123246
CREATED:20250502T183550Z
LAST-MODIFIED:20250502T214722Z
UID:10000159-1732561200-1732568400@cfuwburlington.ca
SUMMARY:Erin Cormier\, Halton Regional Police: The Challenges of Addressing Hate Crimes in Communities
DESCRIPTION:
URL:https://cfuwburlington.ca/event/erin-cormier-halton-regional-police-the-challenges-of-addressing-hate-crimes-in-communities/
LOCATION:Church Hall\, St. Matthew-on-the-Plains Anglican Church\, 126 Plains Road East\, Burlington\, ON\, L7T 2C3\, Canada
CATEGORIES:Speaker Series
ATTACH;FMTTYPE=image/png:https://cfuwburlington.ca/wp-content/uploads/2025/05/November-24.png
END:VEVENT
BEGIN:VEVENT
DTSTART;TZID=America/Toronto:20241125T190000
DTEND;TZID=America/Toronto:20241125T200000
DTSTAMP:20260422T123246
CREATED:20250221T174652Z
LAST-MODIFIED:20250221T174652Z
UID:10000011-1732561200-1732564800@cfuwburlington.ca
SUMMARY:November General Meeting 2024
DESCRIPTION:General Meeting\nMonday\, November 25\, 2024 \nOpen to Public \n7:00 pm – Sign in and Socializing Time\n7:15 pm – Presentation \nSpeaker: Sergeant Keith Nakahara from Halton Police  \nTopic: Equity\, Diversity\, and Inclusion; “The Challenges of Addressing Hate Crime in Communities
URL:https://cfuwburlington.ca/event/november-general-meeting-2024/
LOCATION:Church Hall\, St. Matthew-on-the-Plains Anglican Church\, 126 Plains Road East\, Burlington\, ON\, L7T 2C3\, Canada
ATTACH;FMTTYPE=image/png:https://cfuwburlington.ca/wp-content/uploads/2025/04/Featured-Image-CFUW-Burlington.png
END:VEVENT
END:VCALENDAR