BEGIN:VCALENDAR
VERSION:2.0
PRODID:-//CFUW Burlington - ECPv6.15.20//NONSGML v1.0//EN
CALSCALE:GREGORIAN
METHOD:PUBLISH
X-ORIGINAL-URL:https://cfuwburlington.ca
X-WR-CALDESC:Events for CFUW Burlington
REFRESH-INTERVAL;VALUE=DURATION:PT1H
X-Robots-Tag:noindex
X-PUBLISHED-TTL:PT1H
BEGIN:VTIMEZONE
TZID:America/Toronto
BEGIN:DAYLIGHT
TZOFFSETFROM:-0500
TZOFFSETTO:-0400
TZNAME:EDT
DTSTART:20250309T070000
END:DAYLIGHT
BEGIN:STANDARD
TZOFFSETFROM:-0400
TZOFFSETTO:-0500
TZNAME:EST
DTSTART:20251102T060000
END:STANDARD
BEGIN:DAYLIGHT
TZOFFSETFROM:-0500
TZOFFSETTO:-0400
TZNAME:EDT
DTSTART:20260308T070000
END:DAYLIGHT
BEGIN:STANDARD
TZOFFSETFROM:-0400
TZOFFSETTO:-0500
TZNAME:EST
DTSTART:20261101T060000
END:STANDARD
BEGIN:DAYLIGHT
TZOFFSETFROM:-0500
TZOFFSETTO:-0400
TZNAME:EDT
DTSTART:20270314T070000
END:DAYLIGHT
BEGIN:STANDARD
TZOFFSETFROM:-0400
TZOFFSETTO:-0500
TZNAME:EST
DTSTART:20271107T060000
END:STANDARD
END:VTIMEZONE
BEGIN:VEVENT
DTSTART;TZID=America/Toronto:20260101T130000
DTEND;TZID=America/Toronto:20260101T160000
DTSTAMP:20260423T094954
CREATED:20250906T190047Z
LAST-MODIFIED:20250906T190405Z
UID:10000426-1767272400-1767283200@cfuwburlington.ca
SUMMARY:Duplicate Bridge
DESCRIPTION:
URL:https://cfuwburlington.ca/event/duplicate-bridge/2026-01-01/
LOCATION:ON
CATEGORIES:Duplicate Bridge
ATTACH;FMTTYPE=image/png:https://cfuwburlington.ca/wp-content/uploads/2025/04/Featured-Image-CFUW-Burlington.png
END:VEVENT
BEGIN:VEVENT
DTSTART;TZID=America/Toronto:20260102T100000
DTEND;TZID=America/Toronto:20260102T233000
DTSTAMP:20260423T094954
CREATED:20250904T195614Z
LAST-MODIFIED:20250904T195614Z
UID:10000329-1767348000-1767396600@cfuwburlington.ca
SUMMARY:Lakeside Walk
DESCRIPTION:
URL:https://cfuwburlington.ca/event/lakeside-walk/2026-01-02/
LOCATION:ON
CATEGORIES:Lakeside Walk
ATTACH;FMTTYPE=image/png:https://cfuwburlington.ca/wp-content/uploads/2025/04/Featured-Image-CFUW-Burlington.png
END:VEVENT
BEGIN:VEVENT
DTSTART;TZID=America/Toronto:20260105T163000
DTEND;TZID=America/Toronto:20260105T183000
DTSTAMP:20260423T094954
CREATED:20250903T163249Z
LAST-MODIFIED:20250903T163538Z
UID:10000267-1767630600-1767637800@cfuwburlington.ca
SUMMARY:Wine and Words Monthly Meeting
DESCRIPTION:
URL:https://cfuwburlington.ca/event/wine-and-words-monthly-meeting/2026-01-05/
LOCATION:Martini House Restaurant\, 437 Elizabeth Street\, Burlington\, Ontario\, L7R 2L8\, Canada
CATEGORIES:Wine and Words
ATTACH;FMTTYPE=image/png:https://cfuwburlington.ca/wp-content/uploads/2025/04/Featured-Image-CFUW-Burlington.png
END:VEVENT
BEGIN:VEVENT
DTSTART;TZID=America/Toronto:20260106T130000
DTEND;TZID=America/Toronto:20260106T150000
DTSTAMP:20260423T094954
CREATED:20250904T193837Z
LAST-MODIFIED:20250904T193837Z
UID:10000301-1767704400-1767711600@cfuwburlington.ca
SUMMARY:Music Appreciation Group Meeting
DESCRIPTION:
URL:https://cfuwburlington.ca/event/music-appreciation-group-meeting/2026-01-06/
LOCATION:ON
CATEGORIES:Music Appreciation Group
ATTACH;FMTTYPE=image/png:https://cfuwburlington.ca/wp-content/uploads/2025/04/Featured-Image-CFUW-Burlington.png
END:VEVENT
BEGIN:VEVENT
DTSTART;TZID=America/Toronto:20260106T130000
DTEND;TZID=America/Toronto:20260106T150000
DTSTAMP:20260423T094954
CREATED:20250923T174252Z
LAST-MODIFIED:20250923T174253Z
UID:10000454-1767704400-1767711600@cfuwburlington.ca
SUMMARY:Le Circle Francais Meeting
DESCRIPTION:
URL:https://cfuwburlington.ca/event/le-circle-francais-meeting-2/2026-01-06/
LOCATION:ON
CATEGORIES:Le Cercle français
ATTACH;FMTTYPE=image/png:https://cfuwburlington.ca/wp-content/uploads/2025/04/Featured-Image-CFUW-Burlington.png
END:VEVENT
BEGIN:VEVENT
DTSTART;TZID=America/Toronto:20260109T100000
DTEND;TZID=America/Toronto:20260109T233000
DTSTAMP:20260423T094954
CREATED:20250904T195614Z
LAST-MODIFIED:20250904T195614Z
UID:10000330-1767952800-1768001400@cfuwburlington.ca
SUMMARY:Lakeside Walk
DESCRIPTION:
URL:https://cfuwburlington.ca/event/lakeside-walk/2026-01-09/
LOCATION:ON
CATEGORIES:Lakeside Walk
ATTACH;FMTTYPE=image/png:https://cfuwburlington.ca/wp-content/uploads/2025/04/Featured-Image-CFUW-Burlington.png
END:VEVENT
BEGIN:VEVENT
DTSTART;VALUE=DATE:20260110
DTEND;VALUE=DATE:20260111
DTSTAMP:20260423T094954
CREATED:20251123T210037Z
LAST-MODIFIED:20260106T230346Z
UID:10000466-1768003200-1768089599@cfuwburlington.ca
SUMMARY:Snowshoe Shufflers - Guided Walk
DESCRIPTION:To start the 2026 year on the right note we are embarking on our first snowshoe adventure with the Halton Outdoor Club. \nFor a cost of $56 we are bused to Highlands Nordic site to embark on a guided snowshoe walking experiment.  We don’t know how our fitness will measure up\, but are up for the challenge. \nThe tour is for beginner to expert level with a 7.5 km trail availability.  Between morning and afternoon\, we will be able to warm up and socialize in the ample seating cafeteria indoors. \nTo our members\, who are not able to join us we will give you an honest analysis after the trip. There are many more trips are available to join. \nEva & Ruth \n 
URL:https://cfuwburlington.ca/event/snowshoe-shufflers-guided-walk/
LOCATION:Highlands Nordic
CATEGORIES:Snowshoe Shufflers
ATTACH;FMTTYPE=image/png:https://cfuwburlington.ca/wp-content/uploads/2025/04/Featured-Image-CFUW-Burlington.png
END:VEVENT
BEGIN:VEVENT
DTSTART;TZID=America/Toronto:20260112T100000
DTEND;TZID=America/Toronto:20260112T113000
DTSTAMP:20260423T094954
CREATED:20250903T155439Z
LAST-MODIFIED:20250903T164210Z
UID:10000198-1768212000-1768217400@cfuwburlington.ca
SUMMARY:Nature Walk and Talk Hike #1
DESCRIPTION:
URL:https://cfuwburlington.ca/event/nature-walk-and-talk-hike/2026-01-12/
LOCATION:ON
CATEGORIES:Nature Walk and Talk Group
ATTACH;FMTTYPE=image/png:https://cfuwburlington.ca/wp-content/uploads/2025/04/Featured-Image-CFUW-Burlington.png
END:VEVENT
BEGIN:VEVENT
DTSTART;TZID=America/Toronto:20260113T130000
DTEND;TZID=America/Toronto:20260113T150000
DTSTAMP:20260423T094954
CREATED:20250903T160234Z
LAST-MODIFIED:20250903T160234Z
UID:10000180-1768309200-1768316400@cfuwburlington.ca
SUMMARY:Afternoon Book Club Meeting
DESCRIPTION:
URL:https://cfuwburlington.ca/event/afternoon-book-club-meeting/2026-01-13/
LOCATION:ON
CATEGORIES:Afternoon Book Club
ATTACH;FMTTYPE=image/png:https://cfuwburlington.ca/wp-content/uploads/2025/04/Featured-Image-CFUW-Burlington.png
END:VEVENT
BEGIN:VEVENT
DTSTART;TZID=America/Toronto:20260113T190000
DTEND;TZID=America/Toronto:20260113T210000
DTSTAMP:20260423T094954
CREATED:20250904T194809Z
LAST-MODIFIED:20250907T194606Z
UID:10000310-1768330800-1768338000@cfuwburlington.ca
SUMMARY:Evening Book Club Meeting
DESCRIPTION:
URL:https://cfuwburlington.ca/event/evening-book-club-meeting/2026-01-13/
LOCATION:ON
CATEGORIES:Evening Book Club
ATTACH;FMTTYPE=image/png:https://cfuwburlington.ca/wp-content/uploads/2025/04/Featured-Image-CFUW-Burlington.png
END:VEVENT
BEGIN:VEVENT
DTSTART;TZID=America/Toronto:20260114T130000
DTEND;TZID=America/Toronto:20260114T150000
DTSTAMP:20260423T094954
CREATED:20250903T155119Z
LAST-MODIFIED:20250903T161043Z
UID:10000189-1768395600-1768402800@cfuwburlington.ca
SUMMARY:Mystery Book Club Meeting
DESCRIPTION:
URL:https://cfuwburlington.ca/event/mystery-book-club-meeting/2026-01-14/
LOCATION:ON
CATEGORIES:Mystery Book Club
ATTACH;FMTTYPE=image/png:https://cfuwburlington.ca/wp-content/uploads/2025/04/Featured-Image-CFUW-Burlington.png
END:VEVENT
BEGIN:VEVENT
DTSTART;TZID=America/Toronto:20260115T130000
DTEND;TZID=America/Toronto:20260115T150000
DTSTAMP:20260423T094954
CREATED:20250904T201106Z
LAST-MODIFIED:20250904T204038Z
UID:10000410-1768482000-1768489200@cfuwburlington.ca
SUMMARY:Creative Crafting Meeting
DESCRIPTION:
URL:https://cfuwburlington.ca/event/creative-crafting-meeting/2026-01-15/
LOCATION:ON
CATEGORIES:Creative Crafting
ATTACH;FMTTYPE=image/png:https://cfuwburlington.ca/wp-content/uploads/2025/04/Featured-Image-CFUW-Burlington.png
END:VEVENT
BEGIN:VEVENT
DTSTART;TZID=America/Toronto:20260115T130000
DTEND;TZID=America/Toronto:20260115T160000
DTSTAMP:20260423T094954
CREATED:20250906T190047Z
LAST-MODIFIED:20250906T190405Z
UID:10000427-1768482000-1768492800@cfuwburlington.ca
SUMMARY:Duplicate Bridge
DESCRIPTION:
URL:https://cfuwburlington.ca/event/duplicate-bridge/2026-01-15/
LOCATION:ON
CATEGORIES:Duplicate Bridge
ATTACH;FMTTYPE=image/png:https://cfuwburlington.ca/wp-content/uploads/2025/04/Featured-Image-CFUW-Burlington.png
END:VEVENT
BEGIN:VEVENT
DTSTART;TZID=America/Toronto:20260116T100000
DTEND;TZID=America/Toronto:20260116T233000
DTSTAMP:20260423T094954
CREATED:20250904T195614Z
LAST-MODIFIED:20250904T195614Z
UID:10000331-1768557600-1768606200@cfuwburlington.ca
SUMMARY:Lakeside Walk
DESCRIPTION:
URL:https://cfuwburlington.ca/event/lakeside-walk/2026-01-16/
LOCATION:ON
CATEGORIES:Lakeside Walk
ATTACH;FMTTYPE=image/png:https://cfuwburlington.ca/wp-content/uploads/2025/04/Featured-Image-CFUW-Burlington.png
END:VEVENT
BEGIN:VEVENT
DTSTART;TZID=America/Toronto:20260118T180000
DTEND;TZID=America/Toronto:20260118T200000
DTSTAMP:20260423T094954
CREATED:20260118T230055Z
LAST-MODIFIED:20260115T014124Z
UID:10000469-1768759200-1768766400@cfuwburlington.ca
SUMMARY:Cheers to the New Year Weekenders
DESCRIPTION:Happy New Year! \nI hope 2026 is already off to a bright and joyful start for you. As we step into a fresh year of good food\, and great conversations\, I’m excited to invite you to our first Weekenders‘ dinner of the year. \nIt’ll be a wonderful chance to reconnect to set the tone for another year of activities.\nWhether you’re a regular or it’s been a while\, come and join us.\nPlease RSVP by January 12th to make the reservation.\nEva & Ruth\n 
URL:https://cfuwburlington.ca/event/cheers-to-the-new-year-weekenders/
LOCATION:Mythos Greek\, 3500 Fairview Street\, Burlington\, ON\, L7N 2R5\, Canada
ATTACH;FMTTYPE=image/png:https://cfuwburlington.ca/wp-content/uploads/2025/04/Featured-Image-CFUW-Burlington.png
END:VEVENT
BEGIN:VEVENT
DTSTART;TZID=America/Toronto:20260119T190000
DTEND;TZID=America/Toronto:20260119T210000
DTSTAMP:20260423T094954
CREATED:20250903T165327Z
LAST-MODIFIED:20250903T170039Z
UID:10000275-1768849200-1768856400@cfuwburlington.ca
SUMMARY:Travel Discussion Group Meeting
DESCRIPTION:
URL:https://cfuwburlington.ca/event/travel-discussion-group-meeting/2026-01-19/
LOCATION:Zoom
CATEGORIES:Travel Discussion
ATTACH;FMTTYPE=image/png:https://cfuwburlington.ca/wp-content/uploads/2025/04/Featured-Image-CFUW-Burlington.png
END:VEVENT
BEGIN:VEVENT
DTSTART;TZID=America/Toronto:20260123T100000
DTEND;TZID=America/Toronto:20260123T233000
DTSTAMP:20260423T094954
CREATED:20250904T195614Z
LAST-MODIFIED:20250904T195614Z
UID:10000332-1769162400-1769211000@cfuwburlington.ca
SUMMARY:Lakeside Walk
DESCRIPTION:
URL:https://cfuwburlington.ca/event/lakeside-walk/2026-01-23/
LOCATION:ON
CATEGORIES:Lakeside Walk
ATTACH;FMTTYPE=image/png:https://cfuwburlington.ca/wp-content/uploads/2025/04/Featured-Image-CFUW-Burlington.png
END:VEVENT
BEGIN:VEVENT
DTSTART;TZID=America/Toronto:20260126T100000
DTEND;TZID=America/Toronto:20260126T113000
DTSTAMP:20260423T094954
CREATED:20250903T162152Z
LAST-MODIFIED:20250903T162152Z
UID:10000258-1769421600-1769427000@cfuwburlington.ca
SUMMARY:Nature Walk and Talk Hike #2
DESCRIPTION:
URL:https://cfuwburlington.ca/event/nature-walk-and-talk-hike-2/2026-01-26/
LOCATION:ON
CATEGORIES:Nature Walk and Talk Group
ATTACH;FMTTYPE=image/png:https://cfuwburlington.ca/wp-content/uploads/2025/04/Featured-Image-CFUW-Burlington.png
END:VEVENT
BEGIN:VEVENT
DTSTART;TZID=America/Toronto:20260126T190000
DTEND;TZID=America/Toronto:20260126T210000
DTSTAMP:20260423T094954
CREATED:20250902T175714Z
LAST-MODIFIED:20251028T150145Z
UID:10000169-1769454000-1769461200@cfuwburlington.ca
SUMMARY:Speaker Series Meeting
DESCRIPTION:Dr. Charles Hui will provide a presentation about the resurgence of Measles and Tuberculosis.
URL:https://cfuwburlington.ca/event/speaker-series-meeting-3/
LOCATION:Zoom
CATEGORIES:General Meeting
ATTACH;FMTTYPE=image/png:https://cfuwburlington.ca/wp-content/uploads/2025/04/Featured-Image-CFUW-Burlington.png
END:VEVENT
BEGIN:VEVENT
DTSTART;TZID=America/Toronto:20260126T190000
DTEND;TZID=America/Toronto:20260126T213000
DTSTAMP:20260423T094954
CREATED:20260103T102715Z
LAST-MODIFIED:20260103T102732Z
UID:10000468-1769454000-1769463000@cfuwburlington.ca
SUMMARY:Dr Charles Hui - "Global Public Health - What's Old is New"
DESCRIPTION:Dr. Hui is an award winning Pediatric Infectious Diseases physician and former Chief of the Division of Infectious Diseases\, Allergy and Immunology at the Children’s Hospital of Eastern Ontario. He also holds the position of Full Professor of Paediatrics at the University of Ottawa\, Ottawa\, Canada. \nAn active clinician and educator\, Dr. Hui is deeply involved in the synthesis\, translation\, and exchange of knowledge on migrant health issues affecting children and youth. He played a pivotal role in guiding the UN Migration Organization through the Ebola pandemic and led Eastern Ontario’s response to the COVID-19pandemic. Dr. Hui co-edited the “Kids New to Canada” online book and serves as the Chair of the CanadianPaediatric Society’s Caring for Kids New to Canada Taskforce. \nDr. Hui has provided consultation to national societies\, governments\, and intergovernmental organizations on policies and issues related to migrant child health. He is a founding member and Chair of the Steering Committee of the Migration Health and Development Research Initiative (MHADRI)\, an international network of over 300 members dedicated to migration health research. \nPlease contact president@cfuwburlington.ca for the Zoom link.
URL:https://cfuwburlington.ca/event/dr-charles-hui-global-public-health-whats-old-is-new/
LOCATION:Zoom
CATEGORIES:Speaker Series
ATTACH;FMTTYPE=image/jpeg:https://cfuwburlington.ca/wp-content/uploads/2026/01/January-2026.jpg
END:VEVENT
BEGIN:VEVENT
DTSTART;TZID=America/Toronto:20260127T133000
DTEND;TZID=America/Toronto:20260127T153000
DTSTAMP:20260423T094954
CREATED:20250904T190755Z
LAST-MODIFIED:20250904T190755Z
UID:10000282-1769520600-1769527800@cfuwburlington.ca
SUMMARY:Novel Women's Discussion Group Meeting
DESCRIPTION:
URL:https://cfuwburlington.ca/event/novel-womens-discussion-group-meeting/2026-01-27/
LOCATION:ON
CATEGORIES:Novel Women’s Book Discussion Group
ATTACH;FMTTYPE=image/png:https://cfuwburlington.ca/wp-content/uploads/2025/04/Featured-Image-CFUW-Burlington.png
END:VEVENT
BEGIN:VEVENT
DTSTART;TZID=America/Toronto:20260129T130000
DTEND;TZID=America/Toronto:20260129T160000
DTSTAMP:20260423T094954
CREATED:20250906T190047Z
LAST-MODIFIED:20250906T190405Z
UID:10000428-1769691600-1769702400@cfuwburlington.ca
SUMMARY:Duplicate Bridge
DESCRIPTION:
URL:https://cfuwburlington.ca/event/duplicate-bridge/2026-01-29/
LOCATION:ON
CATEGORIES:Duplicate Bridge
ATTACH;FMTTYPE=image/png:https://cfuwburlington.ca/wp-content/uploads/2025/04/Featured-Image-CFUW-Burlington.png
END:VEVENT
BEGIN:VEVENT
DTSTART;TZID=America/Toronto:20260130T100000
DTEND;TZID=America/Toronto:20260130T233000
DTSTAMP:20260423T094954
CREATED:20250904T195614Z
LAST-MODIFIED:20250904T195614Z
UID:10000333-1769767200-1769815800@cfuwburlington.ca
SUMMARY:Lakeside Walk
DESCRIPTION:
URL:https://cfuwburlington.ca/event/lakeside-walk/2026-01-30/
LOCATION:ON
CATEGORIES:Lakeside Walk
ATTACH;FMTTYPE=image/png:https://cfuwburlington.ca/wp-content/uploads/2025/04/Featured-Image-CFUW-Burlington.png
END:VEVENT
END:VCALENDAR