BEGIN:VCALENDAR
VERSION:2.0
PRODID:-//CFUW Burlington - ECPv6.15.20//NONSGML v1.0//EN
CALSCALE:GREGORIAN
METHOD:PUBLISH
X-WR-CALNAME:CFUW Burlington
X-ORIGINAL-URL:https://cfuwburlington.ca
X-WR-CALDESC:Events for CFUW Burlington
REFRESH-INTERVAL;VALUE=DURATION:PT1H
X-Robots-Tag:noindex
X-PUBLISHED-TTL:PT1H
BEGIN:VTIMEZONE
TZID:America/Toronto
BEGIN:DAYLIGHT
TZOFFSETFROM:-0500
TZOFFSETTO:-0400
TZNAME:EDT
DTSTART:20250309T070000
END:DAYLIGHT
BEGIN:STANDARD
TZOFFSETFROM:-0400
TZOFFSETTO:-0500
TZNAME:EST
DTSTART:20251102T060000
END:STANDARD
BEGIN:DAYLIGHT
TZOFFSETFROM:-0500
TZOFFSETTO:-0400
TZNAME:EDT
DTSTART:20260308T070000
END:DAYLIGHT
BEGIN:STANDARD
TZOFFSETFROM:-0400
TZOFFSETTO:-0500
TZNAME:EST
DTSTART:20261101T060000
END:STANDARD
BEGIN:DAYLIGHT
TZOFFSETFROM:-0500
TZOFFSETTO:-0400
TZNAME:EDT
DTSTART:20270314T070000
END:DAYLIGHT
BEGIN:STANDARD
TZOFFSETFROM:-0400
TZOFFSETTO:-0500
TZNAME:EST
DTSTART:20271107T060000
END:STANDARD
END:VTIMEZONE
BEGIN:VEVENT
DTSTART;TZID=America/Toronto:20260323T190000
DTEND;TZID=America/Toronto:20260323T210000
DTSTAMP:20260423T061801
CREATED:20260322T110256Z
LAST-MODIFIED:20260322T110451Z
UID:10000474-1774292400-1774299600@cfuwburlington.ca
SUMMARY:Resolutions Night
DESCRIPTION:CFUW promotes for positive public policy changes through resolutions approved by our members at Annual General Meetings and Policy Sessions. These resolutions\, researched and proposed by CFUW Clubs or National Committees\, must support our purpose and mission. Once adopted\, they give focus to our actions and education in the upcoming season. \nAlways an interesting evening\, Resolutions Night brings members of our club together to discuss those proposed resolutions. Enjoy this special discussion evening and take advantage of some social time with your CFUW friends! \nThis meeting is for CFUW Burlington members only. \nPlease read the proposed resolutions which are currently on our website.
URL:https://cfuwburlington.ca/event/resolutions-night/
LOCATION:Church Hall\, St. Matthew-on-the-Plains Anglican Church\, 126 Plains Road East\, Burlington\, ON\, L7T 2C3\, Canada
CATEGORIES:General Meeting
ATTACH;FMTTYPE=image/png:https://cfuwburlington.ca/wp-content/uploads/2026/03/Resolutions.png
END:VEVENT
END:VCALENDAR