BEGIN:VCALENDAR
VERSION:2.0
PRODID:-//CFUW Burlington - ECPv6.15.20//NONSGML v1.0//EN
CALSCALE:GREGORIAN
METHOD:PUBLISH
X-ORIGINAL-URL:https://cfuwburlington.ca
X-WR-CALDESC:Events for CFUW Burlington
REFRESH-INTERVAL;VALUE=DURATION:PT1H
X-Robots-Tag:noindex
X-PUBLISHED-TTL:PT1H
BEGIN:VTIMEZONE
TZID:America/Toronto
BEGIN:DAYLIGHT
TZOFFSETFROM:-0500
TZOFFSETTO:-0400
TZNAME:EDT
DTSTART:20250309T070000
END:DAYLIGHT
BEGIN:STANDARD
TZOFFSETFROM:-0400
TZOFFSETTO:-0500
TZNAME:EST
DTSTART:20251102T060000
END:STANDARD
BEGIN:DAYLIGHT
TZOFFSETFROM:-0500
TZOFFSETTO:-0400
TZNAME:EDT
DTSTART:20260308T070000
END:DAYLIGHT
BEGIN:STANDARD
TZOFFSETFROM:-0400
TZOFFSETTO:-0500
TZNAME:EST
DTSTART:20261101T060000
END:STANDARD
BEGIN:DAYLIGHT
TZOFFSETFROM:-0500
TZOFFSETTO:-0400
TZNAME:EDT
DTSTART:20270314T070000
END:DAYLIGHT
BEGIN:STANDARD
TZOFFSETFROM:-0400
TZOFFSETTO:-0500
TZNAME:EST
DTSTART:20271107T060000
END:STANDARD
END:VTIMEZONE
BEGIN:VEVENT
DTSTART;TZID=America/Toronto:20260223T140000
DTEND;TZID=America/Toronto:20260223T170000
DTSTAMP:20260422T061127
CREATED:20260205T002923Z
LAST-MODIFIED:20260205T003009Z
UID:10000471-1771855200-1771866000@cfuwburlington.ca
SUMMARY:Annual Tea
DESCRIPTION:Please mark Monday Feb 23 on your calendar for our annual Afternoon Tea. Take out your finery\, dust off your fascinators and fancy hats and wash that china cup and saucer. \nWe are all looking forward to sharing an afternoon of friendship and laughter together\, using our china and silver tea pots and heirloom cups and saucers. Members will bake and share their delicious cookies and treats and bring some joy into a cold and bleak February day. \nThis is an event for members and their guests only.
URL:https://cfuwburlington.ca/event/annual-tea/
CATEGORIES:Community Event
ATTACH;FMTTYPE=image/png:https://cfuwburlington.ca/wp-content/uploads/2026/02/Annual-Tea-2026.png
END:VEVENT
END:VCALENDAR