BEGIN:VCALENDAR
VERSION:2.0
PRODID:-//CFUW Burlington - ECPv6.15.20//NONSGML v1.0//EN
CALSCALE:GREGORIAN
METHOD:PUBLISH
X-ORIGINAL-URL:https://cfuwburlington.ca
X-WR-CALDESC:Events for CFUW Burlington
REFRESH-INTERVAL;VALUE=DURATION:PT1H
X-Robots-Tag:noindex
X-PUBLISHED-TTL:PT1H
BEGIN:VTIMEZONE
TZID:America/Toronto
BEGIN:DAYLIGHT
TZOFFSETFROM:-0500
TZOFFSETTO:-0400
TZNAME:EDT
DTSTART:20250309T070000
END:DAYLIGHT
BEGIN:STANDARD
TZOFFSETFROM:-0400
TZOFFSETTO:-0500
TZNAME:EST
DTSTART:20251102T060000
END:STANDARD
BEGIN:DAYLIGHT
TZOFFSETFROM:-0500
TZOFFSETTO:-0400
TZNAME:EDT
DTSTART:20260308T070000
END:DAYLIGHT
BEGIN:STANDARD
TZOFFSETFROM:-0400
TZOFFSETTO:-0500
TZNAME:EST
DTSTART:20261101T060000
END:STANDARD
BEGIN:DAYLIGHT
TZOFFSETFROM:-0500
TZOFFSETTO:-0400
TZNAME:EDT
DTSTART:20270314T070000
END:DAYLIGHT
BEGIN:STANDARD
TZOFFSETFROM:-0400
TZOFFSETTO:-0500
TZNAME:EST
DTSTART:20271107T060000
END:STANDARD
END:VTIMEZONE
BEGIN:VEVENT
DTSTART;TZID=America/Toronto:20260207T110000
DTEND;TZID=America/Toronto:20260207T123000
DTSTAMP:20260422T030526
CREATED:20260122T235659Z
LAST-MODIFIED:20260207T152109Z
UID:10000470-1770462000-1770467400@cfuwburlington.ca
SUMMARY:Experience snowshoeing at Milton’s Crawford Lake - CANCELLED due to extreme cold
DESCRIPTION:To all our CFUW Snowshoe Shufflers: \nThis winter we have our long awaited SNOW! Yes\, the cold temperatures are here too\, but we know how to dress properly and layer. \nA few of us had a great adventure with the Halton Outdoor Club a few weeks ago and enjoyed the trails at Nordic Highlands despite the warm temperatures and icy conditions. \nWe would like to organize another Snowshoe experience but this time it will be shorter and closer to Burlington. \nCrawford Lake Conservation Park  has set up Snowshoe tours on various weekends where we can have a guided tour plus use of their Snowshoes. \nWe are proposing an outing for Saturday Feb 7 th at 11 am.  Price: $15 per person + gate fees. \nPlease let Eva or Ruth know if you can join us. Then click the link below and register on your own.  Tour includes snowshoes and poles.\nThese fill up quickly so you’ll need to register in the next few days.\n\nLet’s have fun and stay active this Winter.\nTo signup here is the link: \nWinter Wanderings: Guided Snowshoeing Tours
URL:https://cfuwburlington.ca/event/experience-snowshoeing-at-miltons-crawford-lake/
LOCATION:Crwford Lake Conservation\, 3115 Conservation Rd\, Milton\, ON L9T 2X3\, MIlton\, Ontario\, L9T 2X3\, Canada
ATTACH;FMTTYPE=image/png:https://cfuwburlington.ca/wp-content/uploads/2025/04/Featured-Image-CFUW-Burlington.png
END:VEVENT
END:VCALENDAR